BEGIN:VCALENDAR
VERSION:2.0
PRODID:-//Kansas Suicide Prevention HQ (KSPHQ) - ECPv6.5.0//NONSGML v1.0//EN
CALSCALE:GREGORIAN
METHOD:PUBLISH
X-ORIGINAL-URL:https://hqkansas.org
X-WR-CALDESC:Events for Kansas Suicide Prevention HQ (KSPHQ)
REFRESH-INTERVAL;VALUE=DURATION:PT1H
X-Robots-Tag:noindex
X-PUBLISHED-TTL:PT1H
BEGIN:VTIMEZONE
TZID:America/Chicago
BEGIN:DAYLIGHT
TZOFFSETFROM:-0600
TZOFFSETTO:-0500
TZNAME:CDT
DTSTART:20240310T080000
END:DAYLIGHT
BEGIN:STANDARD
TZOFFSETFROM:-0500
TZOFFSETTO:-0600
TZNAME:CST
DTSTART:20241103T070000
END:STANDARD
END:VTIMEZONE
BEGIN:VEVENT
DTSTART;TZID=America/Chicago:20240909T080000
DTEND;TZID=America/Chicago:20240909T103000
DTSTAMP:20260423T155514
CREATED:20240513T215152Z
LAST-MODIFIED:20240513T215152Z
UID:2938-1725868800-1725877800@hqkansas.org
SUMMARY:Breakfast of Hope 2024
DESCRIPTION:Every Kansan deserves the chance to live a full life. But today\, 1 in 5 Kansans struggle with their mental health and thousands experience suicidal thoughts every day. It doesn’t have to be this way. \nHeadQuarters Kansas is leading a movement to prevent suicide and build resilience in Kansas. Since our founding in 1969\, we’ve pioneered crisis and counseling services\, training\, advocacy and awareness initiatives to provide help\, hope and healing to all Kansans. \nTogether with volunteers\, leaders and partners like you\, we’re creating safer communities where every one of us — survivors\, supporters or someone struggling — can find the connections we need to live healthy\, hopeful and resilient lives.
URL:https://hqkansas.org/event/breakfast-of-hope-2024/
LOCATION:HeadQuarters Kansas\, 2110 Delaware St\, Lawrence\, KS\, 66046\, United States
END:VEVENT
END:VCALENDAR